BEGIN:VCALENDAR
VERSION:2.0
PRODID:-//pretix//tickets.mdg-hamburg.de//
BEGIN:VTIMEZONE
TZID:Europe/Berlin
BEGIN:STANDARD
DTSTART:20001029T040000
RRULE:FREQ=YEARLY;BYDAY=-1SU;BYMONTH=10
TZNAME:CET
TZOFFSETFROM:+0200
TZOFFSETTO:+0100
END:STANDARD
BEGIN:DAYLIGHT
DTSTART:20000326T030000
RRULE:FREQ=YEARLY;BYDAY=-1SU;BYMONTH=3
TZNAME:CEST
TZOFFSETFROM:+0100
TZOFFSETTO:+0200
END:DAYLIGHT
END:VTIMEZONE
BEGIN:VEVENT
UID:pretix-mdg-verwaltung-qf8d9-156@tickets.mdg-hamburg.de
DTSTART;TZID=Europe/Berlin:20251125T143000
DTEND;TZID=Europe/Berlin:20251125T160000
DESCRIPTION:Tickets: https://tickets.mdg-hamburg.de/mdg-verwaltung/qf8d9/15
 6/\nVeranstalter: MDG Verwaltung
DTSTAMP:20260421T151323Z
LOCATION:Marion Dönhoff Gymnasium\, Willhöden 74 22587 Hamburg
SUMMARY:Forschungsnachmittag für Viertklässler:innen
END:VEVENT
END:VCALENDAR
